BEGIN:VCALENDAR
VERSION:2.0
PRODID:-//American Concrete Institute (Singapore Chapter) - ECPv6.15.20//NONSGML v1.0//EN
CALSCALE:GREGORIAN
METHOD:PUBLISH
X-ORIGINAL-URL:https://www.concrete.org.sg
X-WR-CALDESC:Events for American Concrete Institute (Singapore Chapter)
REFRESH-INTERVAL;VALUE=DURATION:PT1H
X-Robots-Tag:noindex
X-PUBLISHED-TTL:PT1H
BEGIN:VTIMEZONE
TZID:Asia/Singapore
BEGIN:STANDARD
TZOFFSETFROM:+0800
TZOFFSETTO:+0800
TZNAME:+08
DTSTART:20230101T000000
END:STANDARD
END:VTIMEZONE
BEGIN:VEVENT
DTSTART;TZID=Asia/Singapore:20241111T083000
DTEND;TZID=Asia/Singapore:20241111T173000
DTSTAMP:20260423T204150
CREATED:20230818T143635Z
LAST-MODIFIED:20250924T084036Z
UID:10000392-1731313800-1731346200@www.concrete.org.sg
SUMMARY:ACI-SC 2024 Annual Seminar: Concrete Evolution: Transforming Productivity Through Innovation
DESCRIPTION:Concrete Evolution: Transforming Productivity Through Innovation \n\n\n\n\n\n\n\nAs the construction industry continues to evolve\, the need for innovative solutions that enhanceproductivity and efficiency has never been more critical. With the theme “Boosting Productivity andEfficiency in Modern Construction with Advanced Materials”\, ACI-SC 2024 Annual Seminar organizedby ACI Singapore Chapter promises to be a premier event for professionals\, academics\, and industryleaders who are committed to advancing the field of concrete technology. Our seminar bringstogether a distinguished panel of speakers from across the globe to share their insights\, research\,and experiences on a wide range of topics\, including advanced materials\, digital transformation\, andsustainable construction practices. \n\n\n\nPlease register by click the Registration link
URL:https://www.concrete.org.sg/event/aci-sc-2024-annual-seminar/
LOCATION:Crowne Plaza\, 75 Airport Boulevard\, #01-01\, Changi Airport Terminal 3\, Singapore\, 819664\, Singapore
END:VEVENT
END:VCALENDAR