BEGIN:VCALENDAR
VERSION:2.0
PRODID:-//American Concrete Institute (Singapore Chapter) - ECPv6.15.20//NONSGML v1.0//EN
CALSCALE:GREGORIAN
METHOD:PUBLISH
X-ORIGINAL-URL:https://www.concrete.org.sg
X-WR-CALDESC:Events for American Concrete Institute (Singapore Chapter)
REFRESH-INTERVAL;VALUE=DURATION:PT1H
X-Robots-Tag:noindex
X-PUBLISHED-TTL:PT1H
BEGIN:VTIMEZONE
TZID:Asia/Singapore
BEGIN:STANDARD
TZOFFSETFROM:+0800
TZOFFSETTO:+0800
TZNAME:+08
DTSTART:20220101T000000
END:STANDARD
END:VTIMEZONE
BEGIN:VEVENT
DTSTART;TZID=Asia/Singapore:20230328T100000
DTEND;TZID=Asia/Singapore:20230330T180000
DTSTAMP:20260421T112748
CREATED:20230205T100753Z
LAST-MODIFIED:20230205T101422Z
UID:10000380-1679997600-1680199200@www.concrete.org.sg
SUMMARY:BuildTech Asia 2023
DESCRIPTION:We support BuildTech Asia 2023 which is happening from 28-30 March 2023 at Singapore EXPO. The International Building and Construction Technology trade event aims to help accelerate the adoption of automation & digitalisation and achieve sustainable construction industry.
URL:https://www.concrete.org.sg/event/buildtech-asia-2023/
LOCATION:Singapore EXPO\, 1 Expo Drive\, 486150\, Singapore
CATEGORIES:Announcements
ATTACH;FMTTYPE=image/png:https://www.concrete.org.sg/wp-content/uploads/2023/02/970-X-618-Square-banner.png
END:VEVENT
END:VCALENDAR